BEGIN:VCALENDAR
VERSION:2.0
PRODID:-//Clark County Radio Control Society - ECPv6.15.17.1//NONSGML v1.0//EN
CALSCALE:GREGORIAN
METHOD:PUBLISH
X-ORIGINAL-URL:https://ccrcs.org
X-WR-CALDESC:Events for Clark County Radio Control Society
REFRESH-INTERVAL;VALUE=DURATION:PT1H
X-Robots-Tag:noindex
X-PUBLISHED-TTL:PT1H
BEGIN:VTIMEZONE
TZID:America/Los_Angeles
BEGIN:DAYLIGHT
TZOFFSETFROM:-0800
TZOFFSETTO:-0700
TZNAME:PDT
DTSTART:20250309T100000
END:DAYLIGHT
BEGIN:STANDARD
TZOFFSETFROM:-0700
TZOFFSETTO:-0800
TZNAME:PST
DTSTART:20251102T090000
END:STANDARD
BEGIN:DAYLIGHT
TZOFFSETFROM:-0800
TZOFFSETTO:-0700
TZNAME:PDT
DTSTART:20260308T100000
END:DAYLIGHT
BEGIN:STANDARD
TZOFFSETFROM:-0700
TZOFFSETTO:-0800
TZNAME:PST
DTSTART:20261101T090000
END:STANDARD
BEGIN:DAYLIGHT
TZOFFSETFROM:-0800
TZOFFSETTO:-0700
TZNAME:PDT
DTSTART:20270314T100000
END:DAYLIGHT
BEGIN:STANDARD
TZOFFSETFROM:-0700
TZOFFSETTO:-0800
TZNAME:PST
DTSTART:20271107T090000
END:STANDARD
END:VTIMEZONE
BEGIN:VEVENT
DTSTART;TZID=America/Los_Angeles:20260620T183000
DTEND;TZID=America/Los_Angeles:20260620T223000
DTSTAMP:20260423T153559
CREATED:20260228T001715Z
LAST-MODIFIED:20260228T002911Z
UID:2855-1781980200-1781994600@ccrcs.org
SUMMARY:KID CUDI PRESENTS: THE REBEL RAGERS TOUR
DESCRIPTION:Remember the ‘be gone’ times of 3PM for weekday concerts and 1PM for weekend concerts. \nAlso\, do not fly if cars are still on the field the morning after the concert.
URL:https://ccrcs.org/event/kid-cudi-presents-the-rebel-ragers-tour/
LOCATION:Cascades Amphitheater\, 17200 NE Delfel Rd\, Ridgefield\, WA\, 98642\, United States
END:VEVENT
END:VCALENDAR