BEGIN:VCALENDAR
VERSION:2.0
PRODID:-//Clark County Radio Control Society - ECPv6.15.17.1//NONSGML v1.0//EN
CALSCALE:GREGORIAN
METHOD:PUBLISH
X-ORIGINAL-URL:https://ccrcs.org
X-WR-CALDESC:Events for Clark County Radio Control Society
REFRESH-INTERVAL;VALUE=DURATION:PT1H
X-Robots-Tag:noindex
X-PUBLISHED-TTL:PT1H
BEGIN:VTIMEZONE
TZID:America/Los_Angeles
BEGIN:DAYLIGHT
TZOFFSETFROM:-0800
TZOFFSETTO:-0700
TZNAME:PDT
DTSTART:20250309T100000
END:DAYLIGHT
BEGIN:STANDARD
TZOFFSETFROM:-0700
TZOFFSETTO:-0800
TZNAME:PST
DTSTART:20251102T090000
END:STANDARD
BEGIN:DAYLIGHT
TZOFFSETFROM:-0800
TZOFFSETTO:-0700
TZNAME:PDT
DTSTART:20260308T100000
END:DAYLIGHT
BEGIN:STANDARD
TZOFFSETFROM:-0700
TZOFFSETTO:-0800
TZNAME:PST
DTSTART:20261101T090000
END:STANDARD
BEGIN:DAYLIGHT
TZOFFSETFROM:-0800
TZOFFSETTO:-0700
TZNAME:PDT
DTSTART:20270314T100000
END:DAYLIGHT
BEGIN:STANDARD
TZOFFSETFROM:-0700
TZOFFSETTO:-0800
TZNAME:PST
DTSTART:20271107T090000
END:STANDARD
END:VTIMEZONE
BEGIN:VEVENT
DTSTART;TZID=America/Los_Angeles:20260906T090000
DTEND;TZID=America/Los_Angeles:20260906T140000
DTSTAMP:20260423T170110
CREATED:20260226T212825Z
LAST-MODIFIED:20260228T003107Z
UID:2840-1788685200-1788703200@ccrcs.org
SUMMARY:CCRCS Jet Jam
DESCRIPTION:Bring your jet and fly off our 300 foot paved runway.All types welcome.$10.00 Landing FeeMicro EDF? – Bring it64mm – 120mm EDF Jet? – Bring it!E-Flite 777 Airliner? – Bring it!Nitro powered prop jet? – Bring it!Old school nitro ducted fan? – Bring it!Turbine Powered? – Bring it!(Turbine pilots MUST have AMA Turbine Waiver)If it looks like a jet or has some type of jet engine it is welcome.Pilots Meeting at 8:45 AMJet flying starts at 9:00 AM \nFree for spectators
URL:https://ccrcs.org/event/ccrcs-jet-jam/
LOCATION:CCRCS Flying Field\, 17502 NE 2nd Ave\, 17502 NE 2nd Ave\, Ridgefield\, WA 98642\, WA\, 98642\, United States
END:VEVENT
BEGIN:VEVENT
DTSTART;TZID=America/Los_Angeles:20260909T190000
DTEND;TZID=America/Los_Angeles:20260909T203000
DTSTAMP:20260423T170110
CREATED:20260226T215339Z
LAST-MODIFIED:20260228T003047Z
UID:2848-1788980400-1788985800@ccrcs.org
SUMMARY:CCRCS Monthly Meeting
DESCRIPTION:Monthly meeting of the Clark County Radio Control Society. \nLocation is the Pearson Field Education Center. \nMeeting starts at 7 pm
URL:https://ccrcs.org/event/ccrcs-monthly-meeting-5/
LOCATION:Pearson Field Education Center\, 201B East Reserve Street\, Vancouver\, WA\, 98661\, United States
END:VEVENT
BEGIN:VEVENT
DTSTART;TZID=America/Los_Angeles:20260912T190000
DTEND;TZID=America/Los_Angeles:20260912T223000
DTSTAMP:20260423T170110
CREATED:20260228T002601Z
LAST-MODIFIED:20260228T002601Z
UID:2872-1789239600-1789252200@ccrcs.org
SUMMARY:Five Finger Death Punch
DESCRIPTION:Remember the ‘be gone’ times of 3PM for weekday concerts and 1PM for weekend concerts. \nAlso\, do not fly if cars are still on the field the morning after the concert.
URL:https://ccrcs.org/event/five-finger-death-punch/
LOCATION:Cascades Amphitheater\, 17200 NE Delfel Rd\, Ridgefield\, WA\, 98642\, United States
END:VEVENT
BEGIN:VEVENT
DTSTART;TZID=America/Los_Angeles:20260913T080000
DTEND;TZID=America/Los_Angeles:20260913T120000
DTSTAMP:20260423T170110
CREATED:20260226T212534Z
LAST-MODIFIED:20260228T003216Z
UID:2838-1789286400-1789300800@ccrcs.org
SUMMARY:Wet Wings #4
DESCRIPTION:Wet Wings is back for 2026.Landing fee is $10All else remains the same.Contact Stan if you have any questions \nFree for spectators
URL:https://ccrcs.org/event/wet-wings-4/
LOCATION:Mint Lake\, 16321 NE 379th St\, Yacolt\, WA\, 98675\, United States
END:VEVENT
BEGIN:VEVENT
DTSTART;TZID=America/Los_Angeles:20260918T183000
DTEND;TZID=America/Los_Angeles:20260918T223000
DTSTAMP:20260423T170110
CREATED:20260228T002707Z
LAST-MODIFIED:20260228T002707Z
UID:2873-1789756200-1789770600@ccrcs.org
SUMMARY:Rob Zombie & Marilyn Manson
DESCRIPTION:Remember the ‘be gone’ times of 3PM for weekday concerts and 1PM for weekend concerts. \nAlso\, do not fly if cars are still on the field the morning after the concert.
URL:https://ccrcs.org/event/rob-zombie-marilyn-manson/
LOCATION:Cascades Amphitheater\, 17200 NE Delfel Rd\, Ridgefield\, WA\, 98642\, United States
END:VEVENT
BEGIN:VEVENT
DTSTART;TZID=America/Los_Angeles:20260926T190000
DTEND;TZID=America/Los_Angeles:20260926T223000
DTSTAMP:20260423T170110
CREATED:20260228T002816Z
LAST-MODIFIED:20260228T002816Z
UID:2874-1790449200-1790461800@ccrcs.org
SUMMARY:The Return Of The Carnival Of Sins: Mötley Crüe
DESCRIPTION:Remember the ‘be gone’ times of 3PM for weekday concerts and 1PM for weekend concerts. \nAlso\, do not fly if cars are still on the field the morning after the concert.
URL:https://ccrcs.org/event/the-return-of-the-carnival-of-sins-motley-crue/
LOCATION:Cascades Amphitheater\, 17200 NE Delfel Rd\, Ridgefield\, WA\, 98642\, United States
END:VEVENT
END:VCALENDAR