BEGIN:VCALENDAR
VERSION:2.0
PRODID:-//Clark County Radio Control Society - ECPv6.15.17.1//NONSGML v1.0//EN
CALSCALE:GREGORIAN
METHOD:PUBLISH
X-WR-CALNAME:Clark County Radio Control Society
X-ORIGINAL-URL:https://ccrcs.org
X-WR-CALDESC:Events for Clark County Radio Control Society
REFRESH-INTERVAL;VALUE=DURATION:PT1H
X-Robots-Tag:noindex
X-PUBLISHED-TTL:PT1H
BEGIN:VTIMEZONE
TZID:America/Los_Angeles
BEGIN:DAYLIGHT
TZOFFSETFROM:-0800
TZOFFSETTO:-0700
TZNAME:PDT
DTSTART:20250309T100000
END:DAYLIGHT
BEGIN:STANDARD
TZOFFSETFROM:-0700
TZOFFSETTO:-0800
TZNAME:PST
DTSTART:20251102T090000
END:STANDARD
BEGIN:DAYLIGHT
TZOFFSETFROM:-0800
TZOFFSETTO:-0700
TZNAME:PDT
DTSTART:20260308T100000
END:DAYLIGHT
BEGIN:STANDARD
TZOFFSETFROM:-0700
TZOFFSETTO:-0800
TZNAME:PST
DTSTART:20261101T090000
END:STANDARD
BEGIN:DAYLIGHT
TZOFFSETFROM:-0800
TZOFFSETTO:-0700
TZNAME:PDT
DTSTART:20270314T100000
END:DAYLIGHT
BEGIN:STANDARD
TZOFFSETFROM:-0700
TZOFFSETTO:-0800
TZNAME:PST
DTSTART:20271107T090000
END:STANDARD
END:VTIMEZONE
BEGIN:VEVENT
DTSTART;TZID=America/Los_Angeles:20260701T190000
DTEND;TZID=America/Los_Angeles:20260701T220000
DTSTAMP:20260423T153559
CREATED:20260228T001837Z
LAST-MODIFIED:20260228T002930Z
UID:2867-1782932400-1782943200@ccrcs.org
SUMMARY:MGK: Lost Americana Tour
DESCRIPTION:Remember the ‘be gone’ times of 3PM for weekday concerts and 1PM for weekend concerts. \nAlso\, do not fly if cars are still on the field the morning after the concert.
URL:https://ccrcs.org/event/mgk-lost-americana-tour/
LOCATION:Cascades Amphitheater\, 17200 NE Delfel Rd\, Ridgefield\, WA\, 98642\, United States
END:VEVENT
BEGIN:VEVENT
DTSTART;TZID=America/Los_Angeles:20260708T190000
DTEND;TZID=America/Los_Angeles:20260708T203000
DTSTAMP:20260423T153559
CREATED:20260226T215115Z
LAST-MODIFIED:20260228T003330Z
UID:2846-1783537200-1783542600@ccrcs.org
SUMMARY:CCRCS Monthly Meeting
DESCRIPTION:Monthly meeting of the Clark County Radio Control Society. \nLocation is the Pearson Field Education Center. \nMeeting starts at 7 pm
URL:https://ccrcs.org/event/ccrcs-monthly-meeting-2/
LOCATION:Pearson Field Education Center\, 201B East Reserve Street\, Vancouver\, WA\, 98661\, United States
END:VEVENT
BEGIN:VEVENT
DTSTART;TZID=America/Los_Angeles:20260710T090000
DTEND;TZID=America/Los_Angeles:20260712T150000
DTSTAMP:20260423T153559
CREATED:20260226T214024Z
LAST-MODIFIED:20260228T003316Z
UID:2842-1783674000-1783868400@ccrcs.org
SUMMARY:District XI 2026 AMA Jamboree
DESCRIPTION:Early arrival ok\, extra day ok N/C. Open flying dawn to dusk\, sorry no turbines. \nFood vender on site. \nRaffle & pilots’ choice awards. \nTailgate swaps ok. \nMotels & foods in area. \nLanding fee $45. \nDry camp only R/V $25/day\, Tents $10/day. \nGuest parking $5
URL:https://ccrcs.org/event/district-xi-2026-ama-jamboree/
LOCATION:Umpqua Valley Modelers Kingery Field\, 500 Kingery Ranch Ln\, Yoncalla\, OR\, 97499\, United States
END:VEVENT
BEGIN:VEVENT
DTSTART;TZID=America/Los_Angeles:20260714T190000
DTEND;TZID=America/Los_Angeles:20260714T223000
DTSTAMP:20260423T153559
CREATED:20260228T002011Z
LAST-MODIFIED:20260228T002011Z
UID:2868-1784055600-1784068200@ccrcs.org
SUMMARY:Hilary Duff: the lucky me tour
DESCRIPTION:Remember the ‘be gone’ times of 3PM for weekday concerts and 1PM for weekend concerts. \nAlso\, do not fly if cars are still on the field the morning after the concert.
URL:https://ccrcs.org/event/hilary-duff-the-lucky-me-tour/
LOCATION:Cascades Amphitheater\, 17200 NE Delfel Rd\, Ridgefield\, WA\, 98642\, United States
END:VEVENT
BEGIN:VEVENT
DTSTART;TZID=America/Los_Angeles:20260719T080000
DTEND;TZID=America/Los_Angeles:20260719T120000
DTSTAMP:20260423T153559
CREATED:20260226T212144Z
LAST-MODIFIED:20260228T003300Z
UID:2834-1784448000-1784462400@ccrcs.org
SUMMARY:Wet Wings #2
DESCRIPTION:Wet Wings is back for 2026.Landing fee is $10All else remains the same.Contact Stan if you have any questions \nFree for spectators
URL:https://ccrcs.org/event/wet-wings-2/
LOCATION:Mint Lake\, 16321 NE 379th St\, Yacolt\, WA\, 98675\, United States
END:VEVENT
BEGIN:VEVENT
DTSTART;TZID=America/Los_Angeles:20260722T190000
DTEND;TZID=America/Los_Angeles:20260722T220000
DTSTAMP:20260423T153559
CREATED:20260228T002137Z
LAST-MODIFIED:20260228T002137Z
UID:2869-1784746800-1784757600@ccrcs.org
SUMMARY:Evanescence 2026 World Tour
DESCRIPTION:Remember the ‘be gone’ times of 3PM for weekday concerts and 1PM for weekend concerts. \nAlso\, do not fly if cars are still on the field the morning after the concert.
URL:https://ccrcs.org/event/evanescence-2026-world-tour/
LOCATION:Cascades Amphitheater\, 17200 NE Delfel Rd\, Ridgefield\, WA\, 98642\, United States
END:VEVENT
BEGIN:VEVENT
DTSTART;TZID=America/Los_Angeles:20260730T193000
DTEND;TZID=America/Los_Angeles:20260730T223000
DTSTAMP:20260423T153559
CREATED:20260228T002256Z
LAST-MODIFIED:20260228T002256Z
UID:2870-1785439800-1785450600@ccrcs.org
SUMMARY:Jason Aldean: Songs About Us Tour 2026
DESCRIPTION:Remember the ‘be gone’ times of 3PM for weekday concerts and 1PM for weekend concerts. \nAlso\, do not fly if cars are still on the field the morning after the concert.
URL:https://ccrcs.org/event/jason-aldean-songs-about-us-tour-2026/
LOCATION:Cascades Amphitheater\, 17200 NE Delfel Rd\, Ridgefield\, WA\, 98642\, United States
END:VEVENT
BEGIN:VEVENT
DTSTART;TZID=America/Los_Angeles:20260807T120000
DTEND;TZID=America/Los_Angeles:20260816T233000
DTSTAMP:20260423T153559
CREATED:20260227T235116Z
LAST-MODIFIED:20260227T235116Z
UID:2852-1786104000-1786923000@ccrcs.org
SUMMARY:Clark County Fair
DESCRIPTION:Reminder: The CCRCS Flying Field will be closed approximately one week prior to the fair until approximately one week after the fair. \nCheck your email for exact dates!!!
URL:https://ccrcs.org/event/clark-county-fair/
LOCATION:Clark County Fairgrounds\, 17402 NE Delfel Rd\, Ridgefield\, WA\, 98642\, United States
END:VEVENT
BEGIN:VEVENT
DTSTART;TZID=America/Los_Angeles:20260812T190000
DTEND;TZID=America/Los_Angeles:20260812T203000
DTSTAMP:20260423T153559
CREATED:20260226T215234Z
LAST-MODIFIED:20260228T003238Z
UID:2847-1786561200-1786566600@ccrcs.org
SUMMARY:CCRCS Monthly Meeting
DESCRIPTION:Monthly meeting of the Clark County Radio Control Society. \nLocation is the Pearson Field Education Center. \nMeeting starts at 7 pm
URL:https://ccrcs.org/event/ccrcs-monthly/
LOCATION:Pearson Field Education Center\, 201B East Reserve Street\, Vancouver\, WA\, 98661\, United States
END:VEVENT
BEGIN:VEVENT
DTSTART;TZID=America/Los_Angeles:20260816T080000
DTEND;TZID=America/Los_Angeles:20260816T120000
DTSTAMP:20260423T153559
CREATED:20260226T212353Z
LAST-MODIFIED:20260228T003201Z
UID:2836-1786867200-1786881600@ccrcs.org
SUMMARY:Wet Wings #3
DESCRIPTION:Wet Wings is back for 2026.Landing fee is $10All else remains the same.Contact Stan if you have any questions \nFree for spectators
URL:https://ccrcs.org/event/wet-wings-3/
LOCATION:Mint Lake\, 16321 NE 379th St\, Yacolt\, WA\, 98675\, United States
END:VEVENT
BEGIN:VEVENT
DTSTART;TZID=America/Los_Angeles:20260829T190000
DTEND;TZID=America/Los_Angeles:20260829T223000
DTSTAMP:20260423T153559
CREATED:20260228T002446Z
LAST-MODIFIED:20260228T002446Z
UID:2871-1788030000-1788042600@ccrcs.org
SUMMARY:TRAIN - Drops of Jupiter: 25 Years in the Atmosphere
DESCRIPTION:Remember the ‘be gone’ times of 3PM for weekday concerts and 1PM for weekend concerts. \nAlso\, do not fly if cars are still on the field the morning after the concert.
URL:https://ccrcs.org/event/train-drops-of-jupiter-25-years-in-the-atmosphere/
LOCATION:Cascades Amphitheater\, 17200 NE Delfel Rd\, Ridgefield\, WA\, 98642\, United States
END:VEVENT
BEGIN:VEVENT
DTSTART;TZID=America/Los_Angeles:20260906T090000
DTEND;TZID=America/Los_Angeles:20260906T140000
DTSTAMP:20260423T153559
CREATED:20260226T212825Z
LAST-MODIFIED:20260228T003107Z
UID:2840-1788685200-1788703200@ccrcs.org
SUMMARY:CCRCS Jet Jam
DESCRIPTION:Bring your jet and fly off our 300 foot paved runway.All types welcome.$10.00 Landing FeeMicro EDF? – Bring it64mm – 120mm EDF Jet? – Bring it!E-Flite 777 Airliner? – Bring it!Nitro powered prop jet? – Bring it!Old school nitro ducted fan? – Bring it!Turbine Powered? – Bring it!(Turbine pilots MUST have AMA Turbine Waiver)If it looks like a jet or has some type of jet engine it is welcome.Pilots Meeting at 8:45 AMJet flying starts at 9:00 AM \nFree for spectators
URL:https://ccrcs.org/event/ccrcs-jet-jam/
LOCATION:CCRCS Flying Field\, 17502 NE 2nd Ave\, 17502 NE 2nd Ave\, Ridgefield\, WA 98642\, WA\, 98642\, United States
END:VEVENT
BEGIN:VEVENT
DTSTART;TZID=America/Los_Angeles:20260909T190000
DTEND;TZID=America/Los_Angeles:20260909T203000
DTSTAMP:20260423T153559
CREATED:20260226T215339Z
LAST-MODIFIED:20260228T003047Z
UID:2848-1788980400-1788985800@ccrcs.org
SUMMARY:CCRCS Monthly Meeting
DESCRIPTION:Monthly meeting of the Clark County Radio Control Society. \nLocation is the Pearson Field Education Center. \nMeeting starts at 7 pm
URL:https://ccrcs.org/event/ccrcs-monthly-meeting-5/
LOCATION:Pearson Field Education Center\, 201B East Reserve Street\, Vancouver\, WA\, 98661\, United States
END:VEVENT
BEGIN:VEVENT
DTSTART;TZID=America/Los_Angeles:20260912T190000
DTEND;TZID=America/Los_Angeles:20260912T223000
DTSTAMP:20260423T153559
CREATED:20260228T002601Z
LAST-MODIFIED:20260228T002601Z
UID:2872-1789239600-1789252200@ccrcs.org
SUMMARY:Five Finger Death Punch
DESCRIPTION:Remember the ‘be gone’ times of 3PM for weekday concerts and 1PM for weekend concerts. \nAlso\, do not fly if cars are still on the field the morning after the concert.
URL:https://ccrcs.org/event/five-finger-death-punch/
LOCATION:Cascades Amphitheater\, 17200 NE Delfel Rd\, Ridgefield\, WA\, 98642\, United States
END:VEVENT
BEGIN:VEVENT
DTSTART;TZID=America/Los_Angeles:20260913T080000
DTEND;TZID=America/Los_Angeles:20260913T120000
DTSTAMP:20260423T153559
CREATED:20260226T212534Z
LAST-MODIFIED:20260228T003216Z
UID:2838-1789286400-1789300800@ccrcs.org
SUMMARY:Wet Wings #4
DESCRIPTION:Wet Wings is back for 2026.Landing fee is $10All else remains the same.Contact Stan if you have any questions \nFree for spectators
URL:https://ccrcs.org/event/wet-wings-4/
LOCATION:Mint Lake\, 16321 NE 379th St\, Yacolt\, WA\, 98675\, United States
END:VEVENT
BEGIN:VEVENT
DTSTART;TZID=America/Los_Angeles:20260918T183000
DTEND;TZID=America/Los_Angeles:20260918T223000
DTSTAMP:20260423T153559
CREATED:20260228T002707Z
LAST-MODIFIED:20260228T002707Z
UID:2873-1789756200-1789770600@ccrcs.org
SUMMARY:Rob Zombie & Marilyn Manson
DESCRIPTION:Remember the ‘be gone’ times of 3PM for weekday concerts and 1PM for weekend concerts. \nAlso\, do not fly if cars are still on the field the morning after the concert.
URL:https://ccrcs.org/event/rob-zombie-marilyn-manson/
LOCATION:Cascades Amphitheater\, 17200 NE Delfel Rd\, Ridgefield\, WA\, 98642\, United States
END:VEVENT
BEGIN:VEVENT
DTSTART;TZID=America/Los_Angeles:20260926T190000
DTEND;TZID=America/Los_Angeles:20260926T223000
DTSTAMP:20260423T153559
CREATED:20260228T002816Z
LAST-MODIFIED:20260228T002816Z
UID:2874-1790449200-1790461800@ccrcs.org
SUMMARY:The Return Of The Carnival Of Sins: Mötley Crüe
DESCRIPTION:Remember the ‘be gone’ times of 3PM for weekday concerts and 1PM for weekend concerts. \nAlso\, do not fly if cars are still on the field the morning after the concert.
URL:https://ccrcs.org/event/the-return-of-the-carnival-of-sins-motley-crue/
LOCATION:Cascades Amphitheater\, 17200 NE Delfel Rd\, Ridgefield\, WA\, 98642\, United States
END:VEVENT
BEGIN:VEVENT
DTSTART;TZID=America/Los_Angeles:20261004T090000
DTEND;TZID=America/Los_Angeles:20261004T150000
DTSTAMP:20260423T153559
CREATED:20260226T214533Z
LAST-MODIFIED:20260228T003421Z
UID:2845-1791104400-1791126000@ccrcs.org
SUMMARY:CCRCS Swap Meet
DESCRIPTION:6th ANNUAL CLARK COUNTY RADIO CONTROL SOCIETY  SWAP MEET \nSunday October 4th\, 2026 \n9 AM – 3 PM \nSetup/Takedown time is one hour prior and one hour afterwards \nLimited number of tables available \nPearson Field Education Center \n201-B East Reserve St\nVancouver\, WA 98661 \nFrom I-5 North or South\, take the Mill Plain Exit (1C) and head east. \nTurn left (South) onto E. Reserve St. Continue south pass 5th St. \nTurn left (east) at the Aero Maintenance Flight Center and go through the gate onto Pearson Field \nParking will be immediately on your left. \nAll tables: $25.00 \nAdmission: $5 at the door \nTime to clear off your work bench and clean out your supply boxes. \nMaybe even get a new plane or two to add to your collection
URL:https://ccrcs.org/event/ccrcs-swap-meet/
LOCATION:Pearson Field Education Center\, 201B East Reserve Street\, Vancouver\, WA\, 98661\, United States
END:VEVENT
BEGIN:VEVENT
DTSTART;TZID=America/Los_Angeles:20261014T190000
DTEND;TZID=America/Los_Angeles:20261014T203000
DTSTAMP:20260423T153559
CREATED:20260226T215426Z
LAST-MODIFIED:20260228T003131Z
UID:2849-1792004400-1792009800@ccrcs.org
SUMMARY:CCRCS Monthly Meeting
DESCRIPTION:Monthly meeting of the Clark County Radio Control Society. \nLocation is the Pearson Field Education Center. \nMeeting starts at 7 pm
URL:https://ccrcs.org/event/ccrcs-monthly-meeting-6/
LOCATION:Pearson Field Education Center\, 201B East Reserve Street\, Vancouver\, WA\, 98661\, United States
END:VEVENT
BEGIN:VEVENT
DTSTART;TZID=America/Los_Angeles:20261111T190000
DTEND;TZID=America/Los_Angeles:20261111T203000
DTSTAMP:20260423T153559
CREATED:20260226T215630Z
LAST-MODIFIED:20260228T003119Z
UID:2850-1794423600-1794429000@ccrcs.org
SUMMARY:CCRCS Monthly Meeting
DESCRIPTION:Monthly meeting of the Clark County Radio Control Society. \nLocation is the Pearson Field Education Center. \nMeeting starts at 7 pm
URL:https://ccrcs.org/event/ccrcs-monthly-meeting-7/
LOCATION:Pearson Field Education Center\, 201B East Reserve Street\, Vancouver\, WA\, 98661\, United States
END:VEVENT
END:VCALENDAR