BEGIN:VCALENDAR
VERSION:2.0
PRODID:-//Clark County Radio Control Society - ECPv6.15.17.1//NONSGML v1.0//EN
CALSCALE:GREGORIAN
METHOD:PUBLISH
X-ORIGINAL-URL:https://ccrcs.org
X-WR-CALDESC:Events for Clark County Radio Control Society
REFRESH-INTERVAL;VALUE=DURATION:PT1H
X-Robots-Tag:noindex
X-PUBLISHED-TTL:PT1H
BEGIN:VTIMEZONE
TZID:America/Los_Angeles
BEGIN:DAYLIGHT
TZOFFSETFROM:-0800
TZOFFSETTO:-0700
TZNAME:PDT
DTSTART:20250309T100000
END:DAYLIGHT
BEGIN:STANDARD
TZOFFSETFROM:-0700
TZOFFSETTO:-0800
TZNAME:PST
DTSTART:20251102T090000
END:STANDARD
BEGIN:DAYLIGHT
TZOFFSETFROM:-0800
TZOFFSETTO:-0700
TZNAME:PDT
DTSTART:20260308T100000
END:DAYLIGHT
BEGIN:STANDARD
TZOFFSETFROM:-0700
TZOFFSETTO:-0800
TZNAME:PST
DTSTART:20261101T090000
END:STANDARD
BEGIN:DAYLIGHT
TZOFFSETFROM:-0800
TZOFFSETTO:-0700
TZNAME:PDT
DTSTART:20270314T100000
END:DAYLIGHT
BEGIN:STANDARD
TZOFFSETFROM:-0700
TZOFFSETTO:-0800
TZNAME:PST
DTSTART:20271107T090000
END:STANDARD
END:VTIMEZONE
BEGIN:VEVENT
DTSTART;TZID=America/Los_Angeles:20260419T080000
DTEND;TZID=America/Los_Angeles:20260419T150000
DTSTAMP:20260423T091602
CREATED:20260224T003654Z
LAST-MODIFIED:20260228T004613Z
UID:2789-1776585600-1776610800@ccrcs.org
SUMMARY:Portland SkyKnights Spring Opener
DESCRIPTION:Details to be Announced \nCheck Club website for more information \nhttps://sky-knights.org/
URL:https://ccrcs.org/event/portland-skyknights-spring-opener/
LOCATION:Portland Skyknights Radio Control Flying Club\, 10780 SE Orient Dr\, Boring\, OR\, 97009\, United States
END:VEVENT
BEGIN:VEVENT
DTSTART;TZID=America/Los_Angeles:20260408T190000
DTEND;TZID=America/Los_Angeles:20260408T203000
DTSTAMP:20260423T091602
CREATED:20260224T000154Z
LAST-MODIFIED:20260228T003512Z
UID:2778-1775674800-1775680200@ccrcs.org
SUMMARY:CCRCS Monthly Meeting
DESCRIPTION:Monthly meeting of the Clark County Radio Control Society. \nLocation is the Pearson Field Education Center. \nMeeting starts at 7 pm
URL:https://ccrcs.org/event/monthly-meeting/
LOCATION:Pearson Field Education Center\, 201B East Reserve Street\, Vancouver\, WA\, 98661\, United States
END:VEVENT
BEGIN:VEVENT
DTSTART;TZID=America/Los_Angeles:20260321T090000
DTEND;TZID=America/Los_Angeles:20260321T130000
DTSTAMP:20260423T091602
CREATED:20260224T002638Z
LAST-MODIFIED:20260228T003409Z
UID:2785-1774083600-1774098000@ccrcs.org
SUMMARY:McMinnville Swap Meet
DESCRIPTION:New Location This Year \nWe will have 75+ tables of RC items to take home with you . \n \n 
URL:https://ccrcs.org/event/swap-meet/
LOCATION:McMinnville Armory\, 333 SE Armory Way\, McMinnville\, OR\, 97128\, United States
END:VEVENT
BEGIN:VEVENT
DTSTART;TZID=America/Los_Angeles:20260311T190000
DTEND;TZID=America/Los_Angeles:20260311T203000
DTSTAMP:20260423T091602
CREATED:20260223T235906Z
LAST-MODIFIED:20260228T003012Z
UID:2771-1773255600-1773261000@ccrcs.org
SUMMARY:CCRCS Monthly Meeting
DESCRIPTION:Monthly meeting of the Clark County Radio Control Society. \nLocation is the Pearson Field Education Center. \nMeeting starts at 7 pm
URL:https://ccrcs.org/event/ccrcs-monthly-meeting/
LOCATION:Pearson Field Education Center\, 201B East Reserve Street\, Vancouver\, WA\, 98661\, United States
END:VEVENT
BEGIN:VEVENT
DTSTART;TZID=America/Los_Angeles:20260310T170000
DTEND;TZID=America/Los_Angeles:20260310T200000
DTSTAMP:20260423T091602
CREATED:20260224T001936Z
LAST-MODIFIED:20260228T003459Z
UID:2784-1773162000-1773172800@ccrcs.org
SUMMARY:Indoor Flying Session #5
DESCRIPTION:6pm – 8 pm. Cost to fly: $10.00. \nPlease bring your current AMA card the first time you fly. \ndefault \nMGAES Staff Contact: Malaika Childers.
URL:https://ccrcs.org/event/indoor-flying-session-4-2/
LOCATION:Meadow Glade Adventist Elementary School\, 18717 NE 109th Ave\, Battle Ground\, WA\, 98604\, United States
END:VEVENT
BEGIN:VEVENT
DTSTART;TZID=America/Los_Angeles:20260224T170000
DTEND;TZID=America/Los_Angeles:20260224T200000
DTSTAMP:20260423T091602
CREATED:20260224T000622Z
LAST-MODIFIED:20260224T001651Z
UID:2779-1771952400-1771963200@ccrcs.org
SUMMARY:Indoor Flying Session #4
DESCRIPTION:Cost to fly: $10.00. Please bring your current AMA card the first time you fly. \nMGAES Staff Contact: Malaika Childers. \ndefault
URL:https://ccrcs.org/event/indoor-flying-session-4/
LOCATION:Meadow Glade Adventist Elementary School\, 18717 NE 109th Ave\, Battle Ground\, WA\, 98604\, United States
END:VEVENT
END:VCALENDAR